BEGIN:VCALENDAR
VERSION:2.0
PRODID:-//Web de Mercé V. Electromedicina - ECPv6.14.0//NONSGML v1.0//EN
CALSCALE:GREGORIAN
METHOD:PUBLISH
X-WR-CALNAME:Web de Mercé V. Electromedicina
X-ORIGINAL-URL:https://mercev.com
X-WR-CALDESC:Eventos para Web de Mercé V. Electromedicina
REFRESH-INTERVAL;VALUE=DURATION:PT1H
X-Robots-Tag:noindex
X-PUBLISHED-TTL:PT1H
BEGIN:VTIMEZONE
TZID:Europe/Madrid
BEGIN:DAYLIGHT
TZOFFSETFROM:+0100
TZOFFSETTO:+0200
TZNAME:CEST
DTSTART:20210328T010000
END:DAYLIGHT
BEGIN:STANDARD
TZOFFSETFROM:+0200
TZOFFSETTO:+0100
TZNAME:CET
DTSTART:20211031T010000
END:STANDARD
END:VTIMEZONE
BEGIN:VEVENT
DTSTART;VALUE=DATE:20210920
DTEND;VALUE=DATE:20210922
DTSTAMP:20260421T175627
CREATED:20210707T122706Z
LAST-MODIFIED:20210707T122706Z
UID:10421-1632096000-1632268799@mercev.com
SUMMARY:SITE meets SAM 2021
DESCRIPTION:
URL:https://mercev.com/congreso/site-meets-sam-2021/
LOCATION:ONLINE
CATEGORIES:Radiología y Cirugía Vascular Intervencionista
ATTACH;FMTTYPE=image/jpeg:https://mercev.com/wp-content/uploads/2021/07/site.jpg
END:VEVENT
END:VCALENDAR