BEGIN:VCALENDAR
VERSION:2.0
PRODID:-//Web de Mercé V. Electromedicina - ECPv6.14.0//NONSGML v1.0//EN
CALSCALE:GREGORIAN
METHOD:PUBLISH
X-WR-CALNAME:Web de Mercé V. Electromedicina
X-ORIGINAL-URL:https://mercev.com
X-WR-CALDESC:Eventos para Web de Mercé V. Electromedicina
REFRESH-INTERVAL;VALUE=DURATION:PT1H
X-Robots-Tag:noindex
X-PUBLISHED-TTL:PT1H
BEGIN:VTIMEZONE
TZID:Europe/Madrid
BEGIN:DAYLIGHT
TZOFFSETFROM:+0100
TZOFFSETTO:+0200
TZNAME:CEST
DTSTART:20210328T010000
END:DAYLIGHT
BEGIN:STANDARD
TZOFFSETFROM:+0200
TZOFFSETTO:+0100
TZNAME:CET
DTSTART:20211031T010000
END:STANDARD
END:VTIMEZONE
BEGIN:VEVENT
DTSTART;VALUE=DATE:20211006
DTEND;VALUE=DATE:20211009
DTSTAMP:20260422T205437
CREATED:20210615T072714Z
LAST-MODIFIED:20210615T072714Z
UID:10347-1633478400-1633737599@mercev.com
SUMMARY:XVII Congreso SERVEI
DESCRIPTION:
URL:https://mercev.com/congreso/xvii-congreso-servei/
LOCATION:Auditorio de Zaragoza\, Calle Eduardo Ibarra\, 3\, Zaragoza\, Zaragoza\, 50009\, España
CATEGORIES:Radiología Vascular e Intervencionista
ATTACH;FMTTYPE=image/jpeg:https://mercev.com/wp-content/uploads/2021/06/servei2021.jpg
END:VEVENT
END:VCALENDAR