BEGIN:VCALENDAR
VERSION:2.0
PRODID:-//Web de Mercé V. Electromedicina - ECPv6.14.0//NONSGML v1.0//EN
CALSCALE:GREGORIAN
METHOD:PUBLISH
X-ORIGINAL-URL:https://mercev.com
X-WR-CALDESC:Eventos para Web de Mercé V. Electromedicina
REFRESH-INTERVAL;VALUE=DURATION:PT1H
X-Robots-Tag:noindex
X-PUBLISHED-TTL:PT1H
BEGIN:VTIMEZONE
TZID:Europe/Madrid
BEGIN:DAYLIGHT
TZOFFSETFROM:+0100
TZOFFSETTO:+0200
TZNAME:CEST
DTSTART:20230326T010000
END:DAYLIGHT
BEGIN:STANDARD
TZOFFSETFROM:+0200
TZOFFSETTO:+0100
TZNAME:CET
DTSTART:20231029T010000
END:STANDARD
END:VTIMEZONE
BEGIN:VEVENT
DTSTART;VALUE=DATE:20230317
DTEND;VALUE=DATE:20230319
DTSTAMP:20260422T074747
CREATED:20230217T091700Z
LAST-MODIFIED:20230217T091700Z
UID:12692-1679011200-1679183999@mercev.com
SUMMARY:II Congreso de la Sociedad Canaria de Radiología y I Congreso de la Sociedad Canaria de Radiología Intervencionista
DESCRIPTION:
URL:https://mercev.com/congreso/ii-congreso-de-la-sociedad-canaria-de-radiologia-y-i-congreso-de-la-sociedad-canaria-de-radiologia-intervencionista/
CATEGORIES:Radiología,Radiología Intervencionista
ATTACH;FMTTYPE=image/jpeg:https://mercev.com/wp-content/uploads/2023/02/II-Congreso-Sociedad-Canaria-Radiologia.jpg
END:VEVENT
END:VCALENDAR