BEGIN:VCALENDAR
VERSION:2.0
PRODID:-//Web de Mercé V. Electromedicina - ECPv6.14.0//NONSGML v1.0//EN
CALSCALE:GREGORIAN
METHOD:PUBLISH
X-WR-CALNAME:Web de Mercé V. Electromedicina
X-ORIGINAL-URL:https://mercev.com
X-WR-CALDESC:Eventos para Web de Mercé V. Electromedicina
REFRESH-INTERVAL;VALUE=DURATION:PT1H
X-Robots-Tag:noindex
X-PUBLISHED-TTL:PT1H
BEGIN:VTIMEZONE
TZID:Europe/Madrid
BEGIN:DAYLIGHT
TZOFFSETFROM:+0100
TZOFFSETTO:+0200
TZNAME:CEST
DTSTART:20200329T010000
END:DAYLIGHT
BEGIN:STANDARD
TZOFFSETFROM:+0200
TZOFFSETTO:+0100
TZNAME:CET
DTSTART:20201025T010000
END:STANDARD
END:VTIMEZONE
BEGIN:VEVENT
DTSTART;VALUE=DATE:20200817
DTEND;VALUE=DATE:20200819
DTSTAMP:20260423T073020
CREATED:20200709T103841Z
LAST-MODIFIED:20200709T105910Z
UID:6516-1597622400-1597795199@mercev.com
SUMMARY:SSO 2020. International Conference on Surgical Cancer Care
DESCRIPTION:
URL:https://mercev.com/congreso/sso-2020-international-conference-on-surgical-cancer-care/
LOCATION:ONLINE
CATEGORIES:Oncología
ATTACH;FMTTYPE=image/jpeg:https://mercev.com/wp-content/uploads/2020/07/sso-2020a.jpg
END:VEVENT
END:VCALENDAR