BEGIN:VCALENDAR
VERSION:2.0
PRODID:-//Web de Mercé V. Electromedicina - ECPv6.14.0//NONSGML v1.0//EN
CALSCALE:GREGORIAN
METHOD:PUBLISH
X-WR-CALNAME:Web de Mercé V. Electromedicina
X-ORIGINAL-URL:https://mercev.com
X-WR-CALDESC:Eventos para Web de Mercé V. Electromedicina
REFRESH-INTERVAL;VALUE=DURATION:PT1H
X-Robots-Tag:noindex
X-PUBLISHED-TTL:PT1H
BEGIN:VTIMEZONE
TZID:Europe/Madrid
BEGIN:DAYLIGHT
TZOFFSETFROM:+0100
TZOFFSETTO:+0200
TZNAME:CEST
DTSTART:20240331T010000
END:DAYLIGHT
BEGIN:STANDARD
TZOFFSETFROM:+0200
TZOFFSETTO:+0100
TZNAME:CET
DTSTART:20241027T010000
END:STANDARD
END:VTIMEZONE
BEGIN:VEVENT
DTSTART;VALUE=DATE:20240926
DTEND;VALUE=DATE:20240929
DTSTAMP:20260419T224018
CREATED:20240805T094222Z
LAST-MODIFIED:20240805T094222Z
UID:14348-1727308800-1727567999@mercev.com
SUMMARY:PSOGI - ISSPP 14th International Congress Peritoneal Surface Malignancies
DESCRIPTION:
URL:https://mercev.com/congreso/psogi-isspp-14th-international-congress-peritoneal-surface-malignancies/
LOCATION:Palais de la Bourse Lyon\, Pl. de la Bourse\, Lyon\, Francia\, 69002
CATEGORIES:Cirugía Oncológica,Oncología
ATTACH;FMTTYPE=image/jpeg:https://mercev.com/wp-content/uploads/2024/08/PSOGI-ISSPP-2024.jpg
END:VEVENT
END:VCALENDAR