BEGIN:VCALENDAR
VERSION:2.0
PRODID:-//Web de Mercé V. Electromedicina - ECPv6.14.0//NONSGML v1.0//EN
CALSCALE:GREGORIAN
METHOD:PUBLISH
X-ORIGINAL-URL:https://mercev.com
X-WR-CALDESC:Eventos para Web de Mercé V. Electromedicina
REFRESH-INTERVAL;VALUE=DURATION:PT1H
X-Robots-Tag:noindex
X-PUBLISHED-TTL:PT1H
BEGIN:VTIMEZONE
TZID:Europe/Madrid
BEGIN:DAYLIGHT
TZOFFSETFROM:+0100
TZOFFSETTO:+0200
TZNAME:CEST
DTSTART:20220327T010000
END:DAYLIGHT
BEGIN:STANDARD
TZOFFSETFROM:+0200
TZOFFSETTO:+0100
TZNAME:CET
DTSTART:20221030T010000
END:STANDARD
END:VTIMEZONE
BEGIN:VEVENT
DTSTART;VALUE=DATE:20220424
DTEND;VALUE=DATE:20220428
DTSTAMP:20260422T003642
CREATED:20220422T114129Z
LAST-MODIFIED:20220422T114129Z
UID:11960-1650758400-1651103999@mercev.com
SUMMARY:ECIO 2022. European Conference on Interventional Oncology
DESCRIPTION:
URL:https://mercev.com/congreso/ecio-2022-european-conference-on-interventional-oncology/
LOCATION:Messe Wien Exhibition and Congress Center\, Messepl. 1\, Viena\, 1021\, Austria
CATEGORIES:Oncología Intervencionista
ATTACH;FMTTYPE=image/jpeg:https://mercev.com/wp-content/uploads/2022/04/ECIO-2022.jpg
END:VEVENT
END:VCALENDAR