BEGIN:VCALENDAR
VERSION:2.0
PRODID:-//Web de Mercé V. Electromedicina - ECPv6.14.0//NONSGML v1.0//EN
CALSCALE:GREGORIAN
METHOD:PUBLISH
X-ORIGINAL-URL:https://mercev.com
X-WR-CALDESC:Eventos para Web de Mercé V. Electromedicina
REFRESH-INTERVAL;VALUE=DURATION:PT1H
X-Robots-Tag:noindex
X-PUBLISHED-TTL:PT1H
BEGIN:VTIMEZONE
TZID:Europe/Madrid
BEGIN:DAYLIGHT
TZOFFSETFROM:+0100
TZOFFSETTO:+0200
TZNAME:CEST
DTSTART:20260329T010000
END:DAYLIGHT
BEGIN:STANDARD
TZOFFSETFROM:+0200
TZOFFSETTO:+0100
TZNAME:CET
DTSTART:20261025T010000
END:STANDARD
END:VTIMEZONE
BEGIN:VEVENT
DTSTART;VALUE=DATE:20260118
DTEND;VALUE=DATE:20260124
DTSTAMP:20260421T012050
CREATED:20250619T120958Z
LAST-MODIFIED:20250619T120958Z
UID:14965-1768694400-1769212799@mercev.com
SUMMARY:ABC-WIN Val D'Isère 2025
DESCRIPTION:
URL:https://mercev.com/congreso/abc-win-val-disere-2025-2/
LOCATION:Centre des Congrès Henri Oreiller\, Route de la Balme - BP 228\, Val d'Isère\, 73150\, Francia
CATEGORIES:Neurorradiología
ATTACH;FMTTYPE=image/png:https://mercev.com/wp-content/uploads/2019/12/ABC-WIN.png
END:VEVENT
END:VCALENDAR