BEGIN:VCALENDAR
VERSION:2.0
PRODID:-//Web de Mercé V. Electromedicina - ECPv6.14.0//NONSGML v1.0//EN
CALSCALE:GREGORIAN
METHOD:PUBLISH
X-ORIGINAL-URL:https://mercev.com
X-WR-CALDESC:Eventos para Web de Mercé V. Electromedicina
REFRESH-INTERVAL;VALUE=DURATION:PT1H
X-Robots-Tag:noindex
X-PUBLISHED-TTL:PT1H
BEGIN:VTIMEZONE
TZID:Europe/Madrid
BEGIN:DAYLIGHT
TZOFFSETFROM:+0100
TZOFFSETTO:+0200
TZNAME:CEST
DTSTART:20260329T010000
END:DAYLIGHT
BEGIN:STANDARD
TZOFFSETFROM:+0200
TZOFFSETTO:+0100
TZNAME:CET
DTSTART:20261025T010000
END:STANDARD
END:VTIMEZONE
BEGIN:VEVENT
DTSTART;VALUE=DATE:20260930
DTEND;VALUE=DATE:20261003
DTSTAMP:20260421T011925
CREATED:20260417T103832Z
LAST-MODIFIED:20260417T103832Z
UID:15781-1790726400-1790985599@mercev.com
SUMMARY:Congreso Anual Grupo Español de Neurorradiología Intervencionista GENI 2026
DESCRIPTION:
URL:https://mercev.com/congreso/congreso-anual-grupo-espanol-de-neurorradiologia-intervencionista-geni-2026/
LOCATION:Bizkaia Aretoa\, Abandoibarra Etorb\,3\, Bilbao\, Bizkaia\, 48009\, Spain
CATEGORIES:Neurorradiología
ATTACH;FMTTYPE=image/jpeg:https://mercev.com/wp-content/uploads/2026/04/GENI26.jpg
END:VEVENT
END:VCALENDAR