BEGIN:VCALENDAR
VERSION:2.0
PRODID:-//Web de Mercé V. Electromedicina - ECPv6.14.0//NONSGML v1.0//EN
CALSCALE:GREGORIAN
METHOD:PUBLISH
X-ORIGINAL-URL:https://mercev.com
X-WR-CALDESC:Eventos para Web de Mercé V. Electromedicina
REFRESH-INTERVAL;VALUE=DURATION:PT1H
X-Robots-Tag:noindex
X-PUBLISHED-TTL:PT1H
BEGIN:VTIMEZONE
TZID:Europe/Madrid
BEGIN:DAYLIGHT
TZOFFSETFROM:+0100
TZOFFSETTO:+0200
TZNAME:CEST
DTSTART:20250330T010000
END:DAYLIGHT
BEGIN:STANDARD
TZOFFSETFROM:+0200
TZOFFSETTO:+0100
TZNAME:CET
DTSTART:20251026T010000
END:STANDARD
END:VTIMEZONE
BEGIN:VEVENT
DTSTART;VALUE=DATE:20250618
DTEND;VALUE=DATE:20250620
DTSTAMP:20260421T100806
CREATED:20250205T121915Z
LAST-MODIFIED:20250205T121915Z
UID:14583-1750204800-1750377599@mercev.com
SUMMARY:SYMTAS 2025. VIII Simposio Internacional sobre Accidente Cerebrovascular Agudo por Trombectomía Mecánica
DESCRIPTION:
URL:https://mercev.com/congreso/symtas-2025-viii-simposio-internacional-sobre-accidente-cerebrovascular-agudo-por-trombectomia-mecanica/
LOCATION:Universidad de Santiago de Compostela. Facultad de Medicina y Odontología\, Rúa de San Francisco\, s/n\, Santiago de Compostela\, A Coruña\, 15782\, España
CATEGORIES:Neurorradiología
ATTACH;FMTTYPE=image/jpeg:https://mercev.com/wp-content/uploads/2025/02/SYMTAS-2025.jpg
END:VEVENT
END:VCALENDAR