BEGIN:VCALENDAR
VERSION:2.0
PRODID:-//Web de Mercé V. Electromedicina - ECPv6.14.0//NONSGML v1.0//EN
CALSCALE:GREGORIAN
METHOD:PUBLISH
X-ORIGINAL-URL:https://mercev.com
X-WR-CALDESC:Eventos para Web de Mercé V. Electromedicina
REFRESH-INTERVAL;VALUE=DURATION:PT1H
X-Robots-Tag:noindex
X-PUBLISHED-TTL:PT1H
BEGIN:VTIMEZONE
TZID:Europe/Madrid
BEGIN:DAYLIGHT
TZOFFSETFROM:+0100
TZOFFSETTO:+0200
TZNAME:CEST
DTSTART:20240331T010000
END:DAYLIGHT
BEGIN:STANDARD
TZOFFSETFROM:+0200
TZOFFSETTO:+0100
TZNAME:CET
DTSTART:20241027T010000
END:STANDARD
END:VTIMEZONE
BEGIN:VEVENT
DTSTART;VALUE=DATE:20240411
DTEND;VALUE=DATE:20240413
DTSTAMP:20260425T030348
CREATED:20240206T112048Z
LAST-MODIFIED:20240206T112048Z
UID:13751-1712793600-1712966399@mercev.com
SUMMARY:V Congreso Andaluz de Ictus
DESCRIPTION:
URL:https://mercev.com/congreso/v-congreso-andaluz-de-ictus/
LOCATION:Universidad de Granada. Facultad de Medicina\, Av. de la Investigación\, 11\, Granada\, Granada\, 18016\, España
CATEGORIES:Neurología,Neurorradiología
ATTACH;FMTTYPE=image/jpeg:https://mercev.com/wp-content/uploads/2024/02/V-Congreso-Andaluz-ICTUS-.jpg
END:VEVENT
END:VCALENDAR