BEGIN:VCALENDAR
VERSION:2.0
PRODID:-//Web de Mercé V. Electromedicina - ECPv6.14.0//NONSGML v1.0//EN
CALSCALE:GREGORIAN
METHOD:PUBLISH
X-WR-CALNAME:Web de Mercé V. Electromedicina
X-ORIGINAL-URL:https://mercev.com
X-WR-CALDESC:Eventos para Web de Mercé V. Electromedicina
REFRESH-INTERVAL;VALUE=DURATION:PT1H
X-Robots-Tag:noindex
X-PUBLISHED-TTL:PT1H
BEGIN:VTIMEZONE
TZID:Europe/Madrid
BEGIN:DAYLIGHT
TZOFFSETFROM:+0100
TZOFFSETTO:+0200
TZNAME:CEST
DTSTART:20220327T010000
END:DAYLIGHT
BEGIN:STANDARD
TZOFFSETFROM:+0200
TZOFFSETTO:+0100
TZNAME:CET
DTSTART:20221030T010000
END:STANDARD
END:VTIMEZONE
BEGIN:VEVENT
DTSTART;VALUE=DATE:20220608
DTEND;VALUE=DATE:20220611
DTSTAMP:20260424T011603
CREATED:20220406T095601Z
LAST-MODIFIED:20220406T095601Z
UID:11875-1654646400-1654905599@mercev.com
SUMMARY:33º Congreso de la Asociación de Cardiología Intervencionista
DESCRIPTION:
URL:https://mercev.com/congreso/33o-congreso-de-la-asociacion-de-cardiologia-intervencionista/
LOCATION:Hotel Melia Alicante\, Plaza del Puerto\, 3\, Alicante\, Alicante\, 03001\, España
CATEGORIES:Cardiología Intervencionista,Hemodinámica,Insuficiencia Cardiaca
ATTACH;FMTTYPE=image/jpeg:https://mercev.com/wp-content/uploads/2022/04/33-Congreso-de-la-Asociación-de-Cardiología-Intervencionista.jpg
END:VEVENT
END:VCALENDAR