BEGIN:VCALENDAR
VERSION:2.0
PRODID:-//Web de Mercé V. Electromedicina - ECPv6.14.0//NONSGML v1.0//EN
CALSCALE:GREGORIAN
METHOD:PUBLISH
X-WR-CALNAME:Web de Mercé V. Electromedicina
X-ORIGINAL-URL:https://mercev.com
X-WR-CALDESC:Eventos para Web de Mercé V. Electromedicina
REFRESH-INTERVAL;VALUE=DURATION:PT1H
X-Robots-Tag:noindex
X-PUBLISHED-TTL:PT1H
BEGIN:VTIMEZONE
TZID:Europe/Madrid
BEGIN:DAYLIGHT
TZOFFSETFROM:+0100
TZOFFSETTO:+0200
TZNAME:CEST
DTSTART:20230326T010000
END:DAYLIGHT
BEGIN:STANDARD
TZOFFSETFROM:+0200
TZOFFSETTO:+0100
TZNAME:CET
DTSTART:20231029T010000
END:STANDARD
END:VTIMEZONE
BEGIN:VEVENT
DTSTART;VALUE=DATE:20231004
DTEND;VALUE=DATE:20231007
DTSTAMP:20260420T155315
CREATED:20230905T080925Z
LAST-MODIFIED:20230905T080925Z
UID:13419-1696377600-1696636799@mercev.com
SUMMARY:PSOGI 2023
DESCRIPTION:
URL:https://mercev.com/congreso/psogi-2023/
LOCATION:Palazzo del Cinema\, Lungomare Guglielmo Marconi\,\, Lido di Venezia\, 30126\, Italia
CATEGORIES:Cirugía Oncológica,Oncología
ATTACH;FMTTYPE=image/jpeg:https://mercev.com/wp-content/uploads/2023/09/PSOGI-web.jpg
END:VEVENT
END:VCALENDAR