BEGIN:VCALENDAR
VERSION:2.0
PRODID:-//Web de Mercé V. Electromedicina - ECPv6.14.0//NONSGML v1.0//EN
CALSCALE:GREGORIAN
METHOD:PUBLISH
X-ORIGINAL-URL:https://mercev.com
X-WR-CALDESC:Eventos para Web de Mercé V. Electromedicina
REFRESH-INTERVAL;VALUE=DURATION:PT1H
X-Robots-Tag:noindex
X-PUBLISHED-TTL:PT1H
BEGIN:VTIMEZONE
TZID:Europe/Madrid
BEGIN:DAYLIGHT
TZOFFSETFROM:+0100
TZOFFSETTO:+0200
TZNAME:CEST
DTSTART:20250330T010000
END:DAYLIGHT
BEGIN:STANDARD
TZOFFSETFROM:+0200
TZOFFSETTO:+0100
TZNAME:CET
DTSTART:20251026T010000
END:STANDARD
END:VTIMEZONE
BEGIN:VEVENT
DTSTART;VALUE=DATE:20251104
DTEND;VALUE=DATE:20251108
DTSTAMP:20260420T115812
CREATED:20250826T085124Z
LAST-MODIFIED:20250826T085124Z
UID:14957-1762214400-1762559999@mercev.com
SUMMARY:XXV Reunión Nacional de Cirugía. RNC 2025
DESCRIPTION:
URL:https://mercev.com/congreso/xxv-reunion-nacional-de-cirugia-rnc-2025/
LOCATION:Centro Cultural Miguel Delibes\, Av. Real Valladolid\, 2\, Valladolid\, Valladolid\, 47015\, Spain
CATEGORIES:Cirugía General
ATTACH;FMTTYPE=image/jpeg:https://mercev.com/wp-content/uploads/2025/08/RNC_2025.jpg
END:VEVENT
END:VCALENDAR