BEGIN:VCALENDAR
VERSION:2.0
PRODID:-//Web de Mercé V. Electromedicina - ECPv6.14.0//NONSGML v1.0//EN
CALSCALE:GREGORIAN
METHOD:PUBLISH
X-WR-CALNAME:Web de Mercé V. Electromedicina
X-ORIGINAL-URL:https://mercev.com
X-WR-CALDESC:Eventos para Web de Mercé V. Electromedicina
REFRESH-INTERVAL;VALUE=DURATION:PT1H
X-Robots-Tag:noindex
X-PUBLISHED-TTL:PT1H
BEGIN:VTIMEZONE
TZID:Europe/Madrid
BEGIN:DAYLIGHT
TZOFFSETFROM:+0100
TZOFFSETTO:+0200
TZNAME:CEST
DTSTART:20250330T010000
END:DAYLIGHT
BEGIN:STANDARD
TZOFFSETFROM:+0200
TZOFFSETTO:+0100
TZNAME:CET
DTSTART:20251026T010000
END:STANDARD
END:VTIMEZONE
BEGIN:VEVENT
DTSTART;VALUE=DATE:20251105
DTEND;VALUE=DATE:20251108
DTSTAMP:20260424T104143
CREATED:20250619T114709Z
LAST-MODIFIED:20250619T114709Z
UID:14958-1762300800-1762559999@mercev.com
SUMMARY:VII Congreso Internacional de Cirugía Endovascular. Capítulo de Cirugía Endovascular
DESCRIPTION:
URL:https://mercev.com/congreso/vii-congreso-internacional-de-cirugia-endovascular-capitulo-de-cirugia-endovascular/
LOCATION:Málaga\, Málaga\, Málaga\, España
CATEGORIES:Cirugía Endovascular
ATTACH;FMTTYPE=image/jpeg:https://mercev.com/wp-content/uploads/2025/06/Capitulo-endovascular-2025-Malaga.jpg
END:VEVENT
END:VCALENDAR