BEGIN:VCALENDAR
VERSION:2.0
PRODID:-//Web de Mercé V. Electromedicina - ECPv6.14.0//NONSGML v1.0//EN
CALSCALE:GREGORIAN
METHOD:PUBLISH
X-WR-CALNAME:Web de Mercé V. Electromedicina
X-ORIGINAL-URL:https://mercev.com
X-WR-CALDESC:Eventos para Web de Mercé V. Electromedicina
REFRESH-INTERVAL;VALUE=DURATION:PT1H
X-Robots-Tag:noindex
X-PUBLISHED-TTL:PT1H
BEGIN:VTIMEZONE
TZID:Europe/Madrid
BEGIN:DAYLIGHT
TZOFFSETFROM:+0100
TZOFFSETTO:+0200
TZNAME:CEST
DTSTART:20250330T010000
END:DAYLIGHT
BEGIN:STANDARD
TZOFFSETFROM:+0200
TZOFFSETTO:+0100
TZNAME:CET
DTSTART:20251026T010000
END:STANDARD
END:VTIMEZONE
BEGIN:VEVENT
DTSTART;VALUE=DATE:20251008
DTEND;VALUE=DATE:20251012
DTSTAMP:20260420T142454
CREATED:20250818T084222Z
LAST-MODIFIED:20250818T084222Z
UID:15200-1759881600-1760227199@mercev.com
SUMMARY:39 EACTS Annual Meeting
DESCRIPTION:
URL:https://mercev.com/congreso/39-eacts-annual-meeting/
LOCATION:Bella Center Copenhagen\, Center Blvd. 5\, Copenhagen\, 2300\, Dinamarca
CATEGORIES:Cirugía Cardiaca
ATTACH;FMTTYPE=image/jpeg:https://mercev.com/wp-content/uploads/2025/08/EACTS-2025.jpg
END:VEVENT
END:VCALENDAR