BEGIN:VCALENDAR
VERSION:2.0
PRODID:-//Web de Mercé V. Electromedicina - ECPv6.14.0//NONSGML v1.0//EN
CALSCALE:GREGORIAN
METHOD:PUBLISH
X-WR-CALNAME:Web de Mercé V. Electromedicina
X-ORIGINAL-URL:https://mercev.com
X-WR-CALDESC:Eventos para Web de Mercé V. Electromedicina
REFRESH-INTERVAL;VALUE=DURATION:PT1H
X-Robots-Tag:noindex
X-PUBLISHED-TTL:PT1H
BEGIN:VTIMEZONE
TZID:Europe/Madrid
BEGIN:DAYLIGHT
TZOFFSETFROM:+0100
TZOFFSETTO:+0200
TZNAME:CEST
DTSTART:20240331T010000
END:DAYLIGHT
BEGIN:STANDARD
TZOFFSETFROM:+0200
TZOFFSETTO:+0100
TZNAME:CET
DTSTART:20241027T010000
END:STANDARD
END:VTIMEZONE
BEGIN:VEVENT
DTSTART;VALUE=DATE:20241009
DTEND;VALUE=DATE:20241013
DTSTAMP:20260421T090110
CREATED:20240805T121242Z
LAST-MODIFIED:20240805T121242Z
UID:14361-1728432000-1728777599@mercev.com
SUMMARY:38 EACTS Annual Meeting
DESCRIPTION:
URL:https://mercev.com/congreso/38-eacts-annual-meeting/
LOCATION:Lisbon Congress Centre\, Praça das Indústrias\, Lisboa\, 1300-307\, Portugal
CATEGORIES:Cirugía Cardiaca
ATTACH;FMTTYPE=image/jpeg:https://mercev.com/wp-content/uploads/2024/08/EACTS-2024.jpg
END:VEVENT
END:VCALENDAR