BEGIN:VCALENDAR
VERSION:2.0
PRODID:-//Web de Mercé V. Electromedicina - ECPv6.14.0//NONSGML v1.0//EN
CALSCALE:GREGORIAN
METHOD:PUBLISH
X-ORIGINAL-URL:https://mercev.com
X-WR-CALDESC:Eventos para Web de Mercé V. Electromedicina
REFRESH-INTERVAL;VALUE=DURATION:PT1H
X-Robots-Tag:noindex
X-PUBLISHED-TTL:PT1H
BEGIN:VTIMEZONE
TZID:Europe/Madrid
BEGIN:DAYLIGHT
TZOFFSETFROM:+0100
TZOFFSETTO:+0200
TZNAME:CEST
DTSTART:20240331T010000
END:DAYLIGHT
BEGIN:STANDARD
TZOFFSETFROM:+0200
TZOFFSETTO:+0100
TZNAME:CET
DTSTART:20241027T010000
END:STANDARD
END:VTIMEZONE
BEGIN:VEVENT
DTSTART;VALUE=DATE:20240605
DTEND;VALUE=DATE:20240608
DTSTAMP:20260421T143010
CREATED:20240502T074807Z
LAST-MODIFIED:20240502T074807Z
UID:14185-1717545600-1717804799@mercev.com
SUMMARY:XXVII Congreso de la Sociedad Española de Cirugía Cardiovascular y Endovascular. SECCE 2024
DESCRIPTION:
URL:https://mercev.com/congreso/xxvii-congreso-de-la-sociedad-espanola-de-cirugia-cardiovascular-y-endovascular-secce-2024/
LOCATION:Hotel NH Collection Madrid Eurobuilding\, C. del Padre Damián\, 23\, Chamartín\, Madrid\, Madrid\, 28036\, España
CATEGORIES:Cirugía Cardiaca
ATTACH;FMTTYPE=image/jpeg:https://mercev.com/wp-content/uploads/2024/05/SECCE-2024.jpg
END:VEVENT
END:VCALENDAR