BEGIN:VCALENDAR
VERSION:2.0
PRODID:-//Web de Mercé V. Electromedicina - ECPv6.14.0//NONSGML v1.0//EN
CALSCALE:GREGORIAN
METHOD:PUBLISH
X-WR-CALNAME:Web de Mercé V. Electromedicina
X-ORIGINAL-URL:https://mercev.com
X-WR-CALDESC:Eventos para Web de Mercé V. Electromedicina
REFRESH-INTERVAL;VALUE=DURATION:PT1H
X-Robots-Tag:noindex
X-PUBLISHED-TTL:PT1H
BEGIN:VTIMEZONE
TZID:Europe/Madrid
BEGIN:DAYLIGHT
TZOFFSETFROM:+0100
TZOFFSETTO:+0200
TZNAME:CEST
DTSTART:20260329T010000
END:DAYLIGHT
BEGIN:STANDARD
TZOFFSETFROM:+0200
TZOFFSETTO:+0100
TZNAME:CET
DTSTART:20261025T010000
END:STANDARD
END:VTIMEZONE
BEGIN:VEVENT
DTSTART;VALUE=DATE:20261111
DTEND;VALUE=DATE:20261114
DTSTAMP:20260424T003928
CREATED:20260417T103222Z
LAST-MODIFIED:20260417T103222Z
UID:15778-1794355200-1794614399@mercev.com
SUMMARY:CSC Madrid 2026
DESCRIPTION:
URL:https://mercev.com/congreso/csc-madrid-2026/
LOCATION:Hotel Riu Plaza España\, Gran Vía\, 84\, Madrid\, Madrid\, 28013\, España
CATEGORIES:Cardiología Intervencionista
ATTACH;FMTTYPE=image/jpeg:https://mercev.com/wp-content/uploads/2026/04/CSC-2026.jpg
END:VEVENT
END:VCALENDAR